BEGIN:VCALENDAR
VERSION:2.0
PRODID:-//Mississippi Humanities Council - ECPv6.15.18//NONSGML v1.0//EN
CALSCALE:GREGORIAN
METHOD:PUBLISH
X-ORIGINAL-URL:https://www.mshumanities.org
X-WR-CALDESC:Events for Mississippi Humanities Council
REFRESH-INTERVAL;VALUE=DURATION:PT1H
X-Robots-Tag:noindex
X-PUBLISHED-TTL:PT1H
BEGIN:VTIMEZONE
TZID:America/Chicago
BEGIN:DAYLIGHT
TZOFFSETFROM:-0600
TZOFFSETTO:-0500
TZNAME:CDT
DTSTART:20170312T080000
END:DAYLIGHT
BEGIN:STANDARD
TZOFFSETFROM:-0500
TZOFFSETTO:-0600
TZNAME:CST
DTSTART:20171105T070000
END:STANDARD
BEGIN:DAYLIGHT
TZOFFSETFROM:-0600
TZOFFSETTO:-0500
TZNAME:CDT
DTSTART:20180311T080000
END:DAYLIGHT
BEGIN:STANDARD
TZOFFSETFROM:-0500
TZOFFSETTO:-0600
TZNAME:CST
DTSTART:20181104T070000
END:STANDARD
BEGIN:DAYLIGHT
TZOFFSETFROM:-0600
TZOFFSETTO:-0500
TZNAME:CDT
DTSTART:20190310T080000
END:DAYLIGHT
BEGIN:STANDARD
TZOFFSETFROM:-0500
TZOFFSETTO:-0600
TZNAME:CST
DTSTART:20191103T070000
END:STANDARD
END:VTIMEZONE
BEGIN:VEVENT
DTSTART;TZID=America/Chicago:20181020T100000
DTEND;TZID=America/Chicago:20181020T160000
DTSTAMP:20260424T115538
CREATED:20181011T191355Z
LAST-MODIFIED:20181011T191355Z
UID:11054-1540029600-1540051200@www.mshumanities.org
SUMMARY:Water/Ways @ Ocean Springs: Grand Opening
DESCRIPTION:On October 20\, join the Ocean Springs Municipal Library for the grand opening of the Smithsonian Institution’s traveling exhibit\, Water/Ways. Water/Ways\, which will be on display through November 30\, is free and open to the public. \nExhibit hours are Monday-Thursday 10am-6pm and Friday-Saturday 10am-4pm. School and group visits are welcome but are encouraged to schedule a visit by contacting the library in advance at 228-875-1193. \nWater/Ways is a traveling exhibit offered by the Museum on Main Street division of the Smithsonian Institution. The exhibit explores water’s connection to all aspects of our society\, including the endless motion of the water cycle\, water’s effect on landscape\, settlement and migration\, and its impact on culture and spirituality. \nFuture Water/Ways events in Ocean Springs:\nOctober 23\, 6-7:30pm: Beauvoir\, Restoration After Katrina\nOctober 24\, 10-10:45am: Water-related story and craft time\nOctober 25\, 2-3pm: Legacy of Our Forests and Rivers\nOctober 27\, 9am-5pm: Bousillage workshops\nOctober 28\, 2-4pm: Twelve Oaks archaeological dig\nOctober 30\, 6-7pm: Gulf Coast Research Lab Sci-Cafe\, Walking Watersheds\nOctober 31\, 10-10:45am: Water-related story and craft time\nNovember 1\, 6-7pm: Water/Ways\, Ebbs and Flows of Mississippi History\nNovember 6\, 8am-5pm: Living Shorelines–Master Naturalists\nNovember 7\, 10-10:45: Water-related story and craft time\nNovember 8\, 6-7:30pm: Teen Science Cafe\nNovember 10\, 9:30-11:30am: USM Marine Education Center tour\nNovember 13\, 3-4pm: Enviroscape activity\nNovember 14\, 10-10:45am: Water-related story and craft time\nNovember 15\, 3-7pm: Oysters & Seafood Safety/Terrapins & TEDs\nNovember 17\, 9:30am-12:30pm: Get N2RH20 Kayaking trip\nNovember 20\, 12pm: BP Oil Spill\, Eight Years Later\nNovember 21\, 10-10:45am: Water-related story and craft time\nNovember 27\, 6-7:30pm: Gulf Coast Research Lab Sci-Cafe\nNovember 28\, 10-10:45am: Water-related story and craft time\nNovember 29\, 5:30-7:30pm: How Storms Have Impacted Life on the Mississippi Gulf Coast\nDecember 1\, 10am-12pm: Lessons From the Way of Water for Native Americans
URL:https://www.mshumanities.org/event/water-ways-ocean-springs-grand-opening/
LOCATION:Ocean Springs Municipal Library\, 525 Dewey Avenue\, Ocean Springs\, MS\, 39564\, United States
END:VEVENT
END:VCALENDAR