BEGIN:VCALENDAR
VERSION:2.0
PRODID:-//Mississippi Humanities Council - ECPv6.15.18//NONSGML v1.0//EN
CALSCALE:GREGORIAN
METHOD:PUBLISH
X-WR-CALNAME:Mississippi Humanities Council
X-ORIGINAL-URL:https://www.mshumanities.org
X-WR-CALDESC:Events for Mississippi Humanities Council
REFRESH-INTERVAL;VALUE=DURATION:PT1H
X-Robots-Tag:noindex
X-PUBLISHED-TTL:PT1H
BEGIN:VTIMEZONE
TZID:America/Chicago
BEGIN:DAYLIGHT
TZOFFSETFROM:-0600
TZOFFSETTO:-0500
TZNAME:CDT
DTSTART:20170312T080000
END:DAYLIGHT
BEGIN:STANDARD
TZOFFSETFROM:-0500
TZOFFSETTO:-0600
TZNAME:CST
DTSTART:20171105T070000
END:STANDARD
BEGIN:DAYLIGHT
TZOFFSETFROM:-0600
TZOFFSETTO:-0500
TZNAME:CDT
DTSTART:20180311T080000
END:DAYLIGHT
BEGIN:STANDARD
TZOFFSETFROM:-0500
TZOFFSETTO:-0600
TZNAME:CST
DTSTART:20181104T070000
END:STANDARD
BEGIN:DAYLIGHT
TZOFFSETFROM:-0600
TZOFFSETTO:-0500
TZNAME:CDT
DTSTART:20190310T080000
END:DAYLIGHT
BEGIN:STANDARD
TZOFFSETFROM:-0500
TZOFFSETTO:-0600
TZNAME:CST
DTSTART:20191103T070000
END:STANDARD
END:VTIMEZONE
BEGIN:VEVENT
DTSTART;TZID=America/Chicago:20181107T100000
DTEND;TZID=America/Chicago:20181107T104500
DTSTAMP:20260424T070345
CREATED:20181015T204426Z
LAST-MODIFIED:20181015T204426Z
UID:11063-1541584800-1541587500@www.mshumanities.org
SUMMARY:Water/Ways @ Ocean Springs: Water-related Story & Craft Time
DESCRIPTION:On November 7\, the Ocean Springs Municipal Library will host a water-related story and craft time for families. Parents are encouraged to bring their preschool-aged children for story time and crafts with children’s librarian Maureen Downey. The free program will take place in conjunction with the Smithsonian traveling exhibit Water/Ways\, on display at the Ocean Springs Municipal Library through November 30. \nWater/Ways is a traveling exhibit offered by the Museum on Main Street division of the Smithsonian Institution. The exhibit explores water’s connection to all aspects of our society\, including the endless motion of the water cycle\, water’s effect on landscape\, settlement and migration\, and its impact on culture and spirituality. \nExhibit hours are Monday-Thursday 10am-6pm and Friday-Saturday 10am-4pm. School and group visits are welcome but are encouraged to schedule a visit by contacting the library in advance at 228-875-1193. \nFuture Water/Ways events in Ocean Springs:\nNovember 8\, 6-7:30pm: Teen Science Cafe\nNovember 10\, 9:30-11:30am: USM Marine Education Center tour\nNovember 14\, 10-10:45am: Water-related story and craft time\nNovember 15\, 3-7pm: Oysters & Seafood Safety/Terrapins & TEDs\nNovember 17\, 9:30am-12:30pm: Get N2RH20 Kayaking trip\nNovember 20\, 12pm: BP Oil Spill\, Eight Years Later\nNovember 21\, 10-10:45am: Water-related story and craft time\nNovember 27\, 6-7:30pm: Gulf Coast Research Lab Sci-Cafe\nNovember 28\, 10-10:45am: Water-related story and craft time\nNovember 29\, 5:30-7:30pm: How Storms Have Impacted Life on the Mississippi Gulf Coast\nDecember 1\, 10am-12pm: Lessons From the Way of Water for Native Americans
URL:https://www.mshumanities.org/event/2564/
LOCATION:Ocean Springs Municipal Library\, 525 Dewey Avenue\, Ocean Springs\, MS\, 39564\, United States
END:VEVENT
END:VCALENDAR