BEGIN:VCALENDAR
VERSION:2.0
PRODID:-//Mississippi Humanities Council - ECPv6.15.18//NONSGML v1.0//EN
CALSCALE:GREGORIAN
METHOD:PUBLISH
X-ORIGINAL-URL:https://www.mshumanities.org
X-WR-CALDESC:Events for Mississippi Humanities Council
REFRESH-INTERVAL;VALUE=DURATION:PT1H
X-Robots-Tag:noindex
X-PUBLISHED-TTL:PT1H
BEGIN:VTIMEZONE
TZID:America/Chicago
BEGIN:DAYLIGHT
TZOFFSETFROM:-0600
TZOFFSETTO:-0500
TZNAME:CDT
DTSTART:20170312T080000
END:DAYLIGHT
BEGIN:STANDARD
TZOFFSETFROM:-0500
TZOFFSETTO:-0600
TZNAME:CST
DTSTART:20171105T070000
END:STANDARD
BEGIN:DAYLIGHT
TZOFFSETFROM:-0600
TZOFFSETTO:-0500
TZNAME:CDT
DTSTART:20180311T080000
END:DAYLIGHT
BEGIN:STANDARD
TZOFFSETFROM:-0500
TZOFFSETTO:-0600
TZNAME:CST
DTSTART:20181104T070000
END:STANDARD
BEGIN:DAYLIGHT
TZOFFSETFROM:-0600
TZOFFSETTO:-0500
TZNAME:CDT
DTSTART:20190310T080000
END:DAYLIGHT
BEGIN:STANDARD
TZOFFSETFROM:-0500
TZOFFSETTO:-0600
TZNAME:CST
DTSTART:20191103T070000
END:STANDARD
END:VTIMEZONE
BEGIN:VEVENT
DTSTART;TZID=America/Chicago:20181211T100000
DTEND;TZID=America/Chicago:20181211T110000
DTSTAMP:20260424T055853
CREATED:20181207T152532Z
LAST-MODIFIED:20181207T152532Z
UID:11107-1544522400-1544526000@www.mshumanities.org
SUMMARY:Water/Ways @ Ag Museum: Story Time With Uncle Story
DESCRIPTION:  \nOn December 11\, the Mississippi Agriculture and Forestry Museum will present a free and open to the public presentation of Story Time With Uncle Story. The program\, which will take place in conjunction with the Smithsonian traveling exhibit Water/Ways\, will feature the children’s book The Great Big Water Cycle Adventure by Kay Barnham. \nFollowing story time\, visitors can hear from Corey Wright\, Conservation Educator and Naturalist at the Mississippi Museum of Natural Science. In addition to his talk\, Wright will also have some aquatic animals for visitors to meet and learn about. \nWater/Ways is a traveling exhibit offered by the Museum on Main Street division of the Smithsonian Institution and sponsored by the Mississippi Humanities Council. The exhibit explores water’s connection to all aspects of our society\, including the endless motion of the water cycle\, water’s effect on landscape\, settlement and migration\, and its impact on culture and spirituality. \nFuture Water/Ways events in Jackson:\nDecember 11\, 5:30-7pm: Ideas on Tap: Investing in Green\nDecember 15\, 10am: History of the Ross Barnett Reservoir\nDecember 22\, 10am: Animal Encounters\nDecember 26-January 5\, all day: Augmented Reality Sandbox interactive display\nJanuary 8\, 10am: Story Time with Uncle Story\, Did A Dinosaur Drink This Water?\nJanuary 12\, 10am: Friends of the Mississippi River Basin Model presentation\nJanuary 19\, 10am-2pm: Enviroscape Table interactive display \n \n 
URL:https://www.mshumanities.org/event/2795/
LOCATION:Mississippi Agriculture & Forestry Museum\, 1150 Lakeland Drive\, Jackson\, MS\, 39216\, United States
END:VEVENT
BEGIN:VEVENT
DTSTART;TZID=America/Chicago:20181211T173000
DTEND;TZID=America/Chicago:20181211T190000
DTSTAMP:20260424T055853
CREATED:20181128T151325Z
LAST-MODIFIED:20181128T151325Z
UID:11095-1544549400-1544554800@www.mshumanities.org
SUMMARY:Ideas on Tap: Investing in Green
DESCRIPTION:On December 11\, join the Mississippi Humanities Council for a special December edition of Ideas on Tap. \n“Ideas on Tap: Investing in Green” will focus on the relationship between environmentalism and economic development. Is it possible for the two to exist in harmony? How do we prioritize one over the other? We’ll look at local examples like the One Lake proposal to help understand the issues. Hear from Tray Hairston\, an attorney who specializes in economic development; Jill Mastrototaro\, policy director for Audubon Mississippi; and others. \nThis Ideas on Tap will take place in conjunction with the Smithsonian Museum on Main Street traveling exhibit “Water/Ways\,” sponsored by the MHC and on display at the Mississippi Agriculture & Forestry Museum in Jackson December 7 through January 19. \nBe sure to come out for this special holiday edition of Ideas on Tap to celebrate “Water/Ways” before it leaves town. As always\, snacks and great conversation are on us\, and drinks are on you. \nFuture Water/Ways events in Jackson:\nDecember 15\, 10am: History of the Ross Barnett Reservoir\nDecember 22\, 10am: Animal Encounters\nDecember 26-January 5\, all day: Augmented Reality Sandbox interactive display\nJanuary 8\, 10am: Story Time with Uncle Story\, Did A Dinosaur Drink This Water?\nJanuary 12\, 10am: Friends of the Mississippi River Basin Model presentation\nJanuary 19\, 10am-2pm: Enviroscape Table interactive display
URL:https://www.mshumanities.org/event/ideas-tap-investing-green/
LOCATION:Hal & Mal’s\, 200 Commerce Street\, Jackson\, MS\, 39201\, United States
END:VEVENT
END:VCALENDAR