BEGIN:VCALENDAR
VERSION:2.0
PRODID:-//Mississippi Humanities Council - ECPv6.15.18//NONSGML v1.0//EN
CALSCALE:GREGORIAN
METHOD:PUBLISH
X-ORIGINAL-URL:https://www.mshumanities.org
X-WR-CALDESC:Events for Mississippi Humanities Council
REFRESH-INTERVAL;VALUE=DURATION:PT1H
X-Robots-Tag:noindex
X-PUBLISHED-TTL:PT1H
BEGIN:VTIMEZONE
TZID:America/Chicago
BEGIN:DAYLIGHT
TZOFFSETFROM:-0600
TZOFFSETTO:-0500
TZNAME:CDT
DTSTART:20170312T080000
END:DAYLIGHT
BEGIN:STANDARD
TZOFFSETFROM:-0500
TZOFFSETTO:-0600
TZNAME:CST
DTSTART:20171105T070000
END:STANDARD
BEGIN:DAYLIGHT
TZOFFSETFROM:-0600
TZOFFSETTO:-0500
TZNAME:CDT
DTSTART:20180311T080000
END:DAYLIGHT
BEGIN:STANDARD
TZOFFSETFROM:-0500
TZOFFSETTO:-0600
TZNAME:CST
DTSTART:20181104T070000
END:STANDARD
BEGIN:DAYLIGHT
TZOFFSETFROM:-0600
TZOFFSETTO:-0500
TZNAME:CDT
DTSTART:20190310T080000
END:DAYLIGHT
BEGIN:STANDARD
TZOFFSETFROM:-0500
TZOFFSETTO:-0600
TZNAME:CST
DTSTART:20191103T070000
END:STANDARD
END:VTIMEZONE
BEGIN:VEVENT
DTSTART;TZID=America/Chicago:20181215T100000
DTEND;TZID=America/Chicago:20181215T110000
DTSTAMP:20260424T060041
CREATED:20181207T153344Z
LAST-MODIFIED:20181207T153344Z
UID:11108-1544868000-1544871600@www.mshumanities.org
SUMMARY:Water/Ways @ Ag Museum: History of the Ross Barnett Reservoir
DESCRIPTION:On December 15\, join the Mississippi Agriculture and Forestry Museum for a free and open to the public program about the history and usage of the Ross Barnett Reservoir. The program will feature Bobby Cleveland of the Pearl River Valley Water Supply District. Accompanying the talk will be a unique historic visual display created by the PRVWSD. The display will remain on site through December 21\, 2018. \nWater/Ways is a traveling exhibit offered by the Museum on Main Street division of the Smithsonian Institution and sponsored by the Mississippi Humanities Council. The exhibit explores water’s connection to all aspects of our society\, including the endless motion of the water cycle\, water’s effect on landscape\, settlement and migration\, and its impact on culture and spirituality. \nFuture Water/Ways events in Jackson:\nDecember 22\, 10am: Animal Encounters\nDecember 26-January 5\, all day: Augmented Reality Sandbox interactive display\nJanuary 8\, 10am: Story Time with Uncle Story\, Did A Dinosaur Drink This Water?\nJanuary 12\, 10am: Friends of the Mississippi River Basin Model presentation\nJanuary 19\, 10am-2pm: Enviroscape Table interactive display
URL:https://www.mshumanities.org/event/water-ways-ag-museum-history-ross-barnett-reservoir/
LOCATION:Mississippi Agriculture & Forestry Museum\, 1150 Lakeland Drive\, Jackson\, MS\, 39216\, United States
END:VEVENT
END:VCALENDAR